BEGIN:VCALENDAR
VERSION:2.0
PRODID:-//Santa Clara County Dental Society - ECPv6.15.20//NONSGML v1.0//EN
CALSCALE:GREGORIAN
METHOD:PUBLISH
X-WR-CALNAME:Santa Clara County Dental Society
X-ORIGINAL-URL:https://sccds.org
X-WR-CALDESC:Events for Santa Clara County Dental Society
REFRESH-INTERVAL;VALUE=DURATION:PT1H
X-Robots-Tag:noindex
X-PUBLISHED-TTL:PT1H
BEGIN:VTIMEZONE
TZID:America/Los_Angeles
BEGIN:DAYLIGHT
TZOFFSETFROM:-0800
TZOFFSETTO:-0700
TZNAME:PDT
DTSTART:20250309T100000
END:DAYLIGHT
BEGIN:STANDARD
TZOFFSETFROM:-0700
TZOFFSETTO:-0800
TZNAME:PST
DTSTART:20251102T090000
END:STANDARD
BEGIN:DAYLIGHT
TZOFFSETFROM:-0800
TZOFFSETTO:-0700
TZNAME:PDT
DTSTART:20260308T100000
END:DAYLIGHT
BEGIN:STANDARD
TZOFFSETFROM:-0700
TZOFFSETTO:-0800
TZNAME:PST
DTSTART:20261101T090000
END:STANDARD
BEGIN:DAYLIGHT
TZOFFSETFROM:-0800
TZOFFSETTO:-0700
TZNAME:PDT
DTSTART:20270314T100000
END:DAYLIGHT
BEGIN:STANDARD
TZOFFSETFROM:-0700
TZOFFSETTO:-0800
TZNAME:PST
DTSTART:20271107T090000
END:STANDARD
END:VTIMEZONE
BEGIN:VEVENT
DTSTART;TZID=America/Los_Angeles:20261204T090000
DTEND;TZID=America/Los_Angeles:20261204T130000
DTSTAMP:20260423T021711
CREATED:20260311T195640Z
LAST-MODIFIED:20260421T214919Z
UID:10000259-1796374800-1796389200@sccds.org
SUMMARY:CPR Certification Courses
DESCRIPTION:CPR certification is REQUIRED for ALL dental professionals and is highly recommended for front office staff. Completion of this course provides an American Heart Association CPR certification which is valid for two years. \nCOURSE INCLUDES \n• Registration\n• Lecture\n• Audio/visual presentation\n• Demonstrations\n• Written and practical exam \nRegistration Options*\nCDA Member Dentist ($80.00)\nDental Staff/Auxiliary ($80.00)\nNon CDA Member Dentist ($170.00)
URL:https://sccds.org/events/cpr-certification-courses/2026-12-04/
LOCATION:SCCDS Office
CATEGORIES:4 CE units (Cat 1),Continuing Education,CPR,Upcoming Events
ATTACH;FMTTYPE=image/jpeg:https://sccds.org/wp-content/uploads/2025/04/cpr.jpg
ORGANIZER;CN="SCCDS":MAILTO:info@sccds.org
END:VEVENT
BEGIN:VEVENT
DTSTART;TZID=America/Los_Angeles:20261205T100000
DTEND;TZID=America/Los_Angeles:20261205T140000
DTSTAMP:20260423T021711
CREATED:20260311T195640Z
LAST-MODIFIED:20260421T214919Z
UID:10000260-1796464800-1796479200@sccds.org
SUMMARY:CPR Certification Courses
DESCRIPTION:CPR certification is REQUIRED for ALL dental professionals and is highly recommended for front office staff. Completion of this course provides an American Heart Association CPR certification which is valid for two years. \nCOURSE INCLUDES \n• Registration\n• Lecture\n• Audio/visual presentation\n• Demonstrations\n• Written and practical exam \nRegistration Options*\nCDA Member Dentist ($80.00)\nDental Staff/Auxiliary ($80.00)\nNon CDA Member Dentist ($170.00)
URL:https://sccds.org/events/cpr-certification-courses/2026-12-05/
LOCATION:SCCDS Office
CATEGORIES:4 CE units (Cat 1),Continuing Education,CPR,Upcoming Events
ATTACH;FMTTYPE=image/jpeg:https://sccds.org/wp-content/uploads/2025/04/cpr.jpg
ORGANIZER;CN="SCCDS":MAILTO:info@sccds.org
END:VEVENT
BEGIN:VEVENT
DTSTART;TZID=America/Los_Angeles:20261212T080000
DTEND;TZID=America/Los_Angeles:20261212T150000
DTSTAMP:20260423T021711
CREATED:20250923T233938Z
LAST-MODIFIED:20260420T224511Z
UID:10000246-1797062400-1797087600@sccds.org
SUMMARY:8 Hour Infection Control and Dental Practice Act Law for DAs
DESCRIPTION:THIS COURSE IS FOR UNREGISTERED DENTAL ASSISTANTS OR NEW RDA APPLICANTS ONLY. IF YOU ARE A LICENSED DENTAL PROFESSIONAL\, PLEASE SIGN UP FOR OUR “LICENSE RENEWAL” COURSE INSTEAD. \nNon-RDA dental assistants are required by the Dental Board of California to take an 8-hour training course in Infection Control and a certified 2-hour Dental Practice Act course. This program satisfies these requirements. This course includes 4 hours of online study that MUST BE COMPLETED BEFORE the 4 hours of in-class study. Check-in begins at 8 am. Boxed lunch included! \nRegistration Options*\nDental Staff/Auxiliary ($395.00)
URL:https://sccds.org/events/8-hour-infection-control-and-dental-practice-act-law-for-das/2026-12-12/
LOCATION:SCCDS Office
CATEGORIES:Upcoming Events
ATTACH;FMTTYPE=image/jpeg:https://sccds.org/wp-content/uploads/2025/09/infection-control.jpg
ORGANIZER;CN="SCCDS":MAILTO:info@sccds.org
END:VEVENT
BEGIN:VEVENT
DTSTART;TZID=America/Los_Angeles:20261214T180000
DTEND;TZID=America/Los_Angeles:20261214T220000
DTSTAMP:20260423T021711
CREATED:20260311T195640Z
LAST-MODIFIED:20260421T214919Z
UID:10000261-1797271200-1797285600@sccds.org
SUMMARY:CPR Certification Courses
DESCRIPTION:CPR certification is REQUIRED for ALL dental professionals and is highly recommended for front office staff. Completion of this course provides an American Heart Association CPR certification which is valid for two years. \nCOURSE INCLUDES \n• Registration\n• Lecture\n• Audio/visual presentation\n• Demonstrations\n• Written and practical exam \nRegistration Options*\nCDA Member Dentist ($80.00)\nDental Staff/Auxiliary ($80.00)\nNon CDA Member Dentist ($170.00)
URL:https://sccds.org/events/cpr-certification-courses/2026-12-14/
LOCATION:SCCDS Office
CATEGORIES:4 CE units (Cat 1),Continuing Education,CPR,Upcoming Events
ATTACH;FMTTYPE=image/jpeg:https://sccds.org/wp-content/uploads/2025/04/cpr.jpg
ORGANIZER;CN="SCCDS":MAILTO:info@sccds.org
END:VEVENT
BEGIN:VEVENT
DTSTART;TZID=America/Los_Angeles:20261221T180000
DTEND;TZID=America/Los_Angeles:20261221T220000
DTSTAMP:20260423T021711
CREATED:20260311T195640Z
LAST-MODIFIED:20260421T214919Z
UID:10000262-1797876000-1797890400@sccds.org
SUMMARY:CPR Certification Courses
DESCRIPTION:CPR certification is REQUIRED for ALL dental professionals and is highly recommended for front office staff. Completion of this course provides an American Heart Association CPR certification which is valid for two years. \nCOURSE INCLUDES \n• Registration\n• Lecture\n• Audio/visual presentation\n• Demonstrations\n• Written and practical exam \nRegistration Options*\nCDA Member Dentist ($80.00)\nDental Staff/Auxiliary ($80.00)\nNon CDA Member Dentist ($170.00)
URL:https://sccds.org/events/cpr-certification-courses/2026-12-21/
LOCATION:SCCDS Office
CATEGORIES:4 CE units (Cat 1),Continuing Education,CPR,Upcoming Events
ATTACH;FMTTYPE=image/jpeg:https://sccds.org/wp-content/uploads/2025/04/cpr.jpg
ORGANIZER;CN="SCCDS":MAILTO:info@sccds.org
END:VEVENT
END:VCALENDAR