BEGIN:VCALENDAR
VERSION:2.0
PRODID:-//Santa Clara County Dental Society - ECPv6.15.20//NONSGML v1.0//EN
CALSCALE:GREGORIAN
METHOD:PUBLISH
X-WR-CALNAME:Santa Clara County Dental Society
X-ORIGINAL-URL:https://sccds.org
X-WR-CALDESC:Events for Santa Clara County Dental Society
REFRESH-INTERVAL;VALUE=DURATION:PT1H
X-Robots-Tag:noindex
X-PUBLISHED-TTL:PT1H
BEGIN:VTIMEZONE
TZID:America/Los_Angeles
BEGIN:DAYLIGHT
TZOFFSETFROM:-0800
TZOFFSETTO:-0700
TZNAME:PDT
DTSTART:20250309T100000
END:DAYLIGHT
BEGIN:STANDARD
TZOFFSETFROM:-0700
TZOFFSETTO:-0800
TZNAME:PST
DTSTART:20251102T090000
END:STANDARD
BEGIN:DAYLIGHT
TZOFFSETFROM:-0800
TZOFFSETTO:-0700
TZNAME:PDT
DTSTART:20260308T100000
END:DAYLIGHT
BEGIN:STANDARD
TZOFFSETFROM:-0700
TZOFFSETTO:-0800
TZNAME:PST
DTSTART:20261101T090000
END:STANDARD
BEGIN:DAYLIGHT
TZOFFSETFROM:-0800
TZOFFSETTO:-0700
TZNAME:PDT
DTSTART:20270314T100000
END:DAYLIGHT
BEGIN:STANDARD
TZOFFSETFROM:-0700
TZOFFSETTO:-0800
TZNAME:PST
DTSTART:20271107T090000
END:STANDARD
END:VTIMEZONE
BEGIN:VEVENT
DTSTART;TZID=America/Los_Angeles:20261023T080000
DTEND;TZID=America/Los_Angeles:20261023T123000
DTSTAMP:20260421T125837
CREATED:20250925T050432Z
LAST-MODIFIED:20260311T171541Z
UID:10000187-1792742400-1792758600@sccds.org
SUMMARY:Infection Control & Dental Practice Act Law for License Renewal
DESCRIPTION:THIS COURSE IS FOR LICENSED DENTAL PROFESSIONALS ONLY. IF YOU ARE AN UNLICENSED DENTAL ASSISTANT OR NEW RDA APPLICANT\, PLEASE SIGN UP FOR OUR “8 HOUR INFECTION CONTROL” COURSE INSTEAD. \nTHIS COURSE WILL BE HELD ONLINE VIA ZOOM – LINK WILL BE SENT 24 HOURS PRIOR TO EVENT \n4 CE Units \nAll LICENSED dental professionals are required to take Infection Control and Dental Practice Act (DPA) courses in order to renew their licenses every two years. This course meets all of the Dental Board requirements. \nRegistration Options*\nCDA Member Dentist ($89.00)\nDental Staff/Auxiliary ($89.00)\nNon CDA Member Dentist ($239.00)
URL:https://sccds.org/events/infection-control-dental-practice-act-law-for-license-renewal-2/2026-10-23/
LOCATION:Online Via Zoom
CATEGORIES:4 CE units (Cat 1),Continuing Education,December,Infection Control,Online CE Course,Upcoming Events
ATTACH;FMTTYPE=image/jpeg:https://sccds.org/wp-content/uploads/2025/09/shutterstock_220986358-scaled.jpg
ORGANIZER;CN="SCCDS":MAILTO:info@sccds.org
END:VEVENT
BEGIN:VEVENT
DTSTART;TZID=America/Los_Angeles:20261024T100000
DTEND;TZID=America/Los_Angeles:20261024T163000
DTSTAMP:20260421T125837
CREATED:20260128T231754Z
LAST-MODIFIED:20260129T000151Z
UID:10000138-1792836000-1792859400@sccds.org
SUMMARY:ACLS Renewal ONLY
DESCRIPTION:**THIS COURSE IS ONLY FOR RENEWAL OF CURRENT ACLS PROVIDERS** \nIf it’s been two years since you last certified in ACLS\, this one-day class is for you. Update your skills and learn the latest in life-saving treatments. \nWe fully review everything on what’s new and what you need to know. Your ACLS recertification is valid for two years. The current format for the review lecture is in person with our teachers in the morning\, and the skills portion of the course will be held in person for practice and testing in the afternoon. You will have 30 minutes to get lunch. \nPrerequisites: \nYou must have a current AHA ACLS provider card. There is no grace period awarded for expired provider cards. \nOn completing the course\, you will qualify for 6 hours of Category 1 CE. \nWe highly suggest that students take this one hour self-assessment before the class: \nTake the Pre-Class Self-Assessment
URL:https://sccds.org/events/acls-renewal-only/2026-10-24/
LOCATION:SCCDS Office
CATEGORIES:Continuing Education,CPR,Upcoming Events
ATTACH;FMTTYPE=image/jpeg:https://sccds.org/wp-content/uploads/2026/01/Doctor_Sitting_Patient_Bed_Crop.jpg
ORGANIZER;CN="SCCDS":MAILTO:info@sccds.org
END:VEVENT
BEGIN:VEVENT
DTSTART;TZID=America/Los_Angeles:20261112T183000
DTEND;TZID=America/Los_Angeles:20261112T203000
DTSTAMP:20260421T125837
CREATED:20260218T181211Z
LAST-MODIFIED:20260218T181332Z
UID:10000142-1794508200-1794515400@sccds.org
SUMMARY:General Membership Meeting:  Dentistry 2.0: See Earlier\, Treat Smarter\, Restore Beautifully
DESCRIPTION:Today our patients would rather stay healthy than wait for disease\, and luckily dentistry is shifting toward earlier detection\, prevention-first care\, and conservative aesthetic decisions. This lecture presents a practical “Dentistry 2.0” framework that connects visual detection to risk-based prevention and improved case acceptance. Learn how to integrate supportive periodontal and remineralization therapies into everyday workflows\, then bridge prevention to conservative aesthetics. This presentation will be for the entire dental team. \nObjectives: \nBy attending\, participants will be able to: \n\nApply a Dentistry 2.0 clinical framework that links early detection\, risk assessment\, prevention\, and conservative restorative decision-making.\nInterpret clinical findings to identify early disease indicators (e.g.\, early demineralization/biofilm activity patterns) and determine appropriate next-step interventions.\nPresent risk in an empowering way using patient-friendly language that motivates action without fear\, shame\, or overwhelm.\nIntegrate non-invasive protocols into periodontal maintenance and prevention workflows\, including how to position therapy and expectations to improve adherence.\nDesign a practical remineralization plan that aligns with risk level\, compliance\, and measurable follow-up.\nConnect prevention to aesthetics by choosing more conservative pathways to improved aesthetics and see how the aesthetics wants are achieved.\n\nBiography: \nMichael A. Miyasaki\, DDS is a Sacramento-based clinician\, educator\, and lecturer focused on modern\, prevention-forward clinical systems that improve patient communication\, case acceptance\, and long-term outcomes. He teaches practical workflows that integrate early detection technologies\, periodontal home-care protocols\, and conservative restorative decision-making. Dr. Miyasaki lectures nationally and is involved in continuing education programs emphasizing diagnostics\, minimally invasive dentistry\, and predictable clinical execution for the general practitioner. \n  \n 
URL:https://sccds.org/events/general-membership-meeting-dentistry-2-0-see-earlier-treat-smarter-restore-beautifully/
LOCATION:Hybrid\, 1485 Park Ave.\, San Jose\, CA\, 95126\, United States
CATEGORIES:2 CE Units (Cat 1),Continuing Education,General Membership Meeting,Member Event,November,Upcoming Events
ATTACH;FMTTYPE=image/jpeg:https://sccds.org/wp-content/uploads/2026/02/New-Dr.-Miyasaki-portrait-image-e1752580827433-400x571-1.jpeg
ORGANIZER;CN="SCCDS":MAILTO:info@sccds.org
END:VEVENT
BEGIN:VEVENT
DTSTART;TZID=America/Los_Angeles:20261114T080000
DTEND;TZID=America/Los_Angeles:20261114T150000
DTSTAMP:20260421T125837
CREATED:20250923T233938Z
LAST-MODIFIED:20260420T224511Z
UID:10000245-1794643200-1794668400@sccds.org
SUMMARY:8 Hour Infection Control and Dental Practice Act Law for DAs
DESCRIPTION:THIS COURSE IS FOR UNREGISTERED DENTAL ASSISTANTS OR NEW RDA APPLICANTS ONLY. IF YOU ARE A LICENSED DENTAL PROFESSIONAL\, PLEASE SIGN UP FOR OUR “LICENSE RENEWAL” COURSE INSTEAD. \nNon-RDA dental assistants are required by the Dental Board of California to take an 8-hour training course in Infection Control and a certified 2-hour Dental Practice Act course. This program satisfies these requirements. This course includes 4 hours of online study that MUST BE COMPLETED BEFORE the 4 hours of in-class study. Check-in begins at 8 am. Boxed lunch included! \nRegistration Options*\nDental Staff/Auxiliary ($395.00)
URL:https://sccds.org/events/8-hour-infection-control-and-dental-practice-act-law-for-das/2026-11-14/
LOCATION:SCCDS Office
CATEGORIES:Upcoming Events
ATTACH;FMTTYPE=image/jpeg:https://sccds.org/wp-content/uploads/2025/09/infection-control.jpg
ORGANIZER;CN="SCCDS":MAILTO:info@sccds.org
END:VEVENT
BEGIN:VEVENT
DTSTART;TZID=America/Los_Angeles:20261117T180000
DTEND;TZID=America/Los_Angeles:20261117T200000
DTSTAMP:20260421T125837
CREATED:20250924T003638Z
LAST-MODIFIED:20260311T171811Z
UID:10000190-1794938400-1794945600@sccds.org
SUMMARY:Mandatory Annual HIPAA Training
DESCRIPTION:THIS COURSE WILL BE HELD ONLINE VIA ZOOM – THE LINK WILL BE SENT 24 HOURS PRIOR TO THE EVENT \nYou will learn: \n• Privacy Rule • Security Rule • Omnibus Rule • Penalties• Investigation triggers • Breaches • Business Associates • Technology risks & rewards • How to protect your practice \nFind out what info is real and what rumors are fake in the HIPAA world and hear some real-world cases and fines that come with them. This is a must-hear lecture for any practice owner who is concerned with being compliant and wants to be “in the know”. \nRegistration Options*\nSCCDS Member Dentist (FREE!)\nDental Staff/Auxiliary ($75.00)\nNon CDA Member Dentist ($225.00)
URL:https://sccds.org/events/mandatory-annual-hipaa-training/2026-11-17/
LOCATION:Online Via Zoom
CATEGORIES:2 CE Units (Cat 1),Continuing Education,Upcoming Events
ATTACH;FMTTYPE=image/jpeg:https://sccds.org/wp-content/uploads/2025/09/HIPAA_EmailHeader.jpg
ORGANIZER;CN="SCCDS":MAILTO:info@sccds.org
END:VEVENT
BEGIN:VEVENT
DTSTART;TZID=America/Los_Angeles:20261212T080000
DTEND;TZID=America/Los_Angeles:20261212T150000
DTSTAMP:20260421T125837
CREATED:20250923T233938Z
LAST-MODIFIED:20260420T224511Z
UID:10000246-1797062400-1797087600@sccds.org
SUMMARY:8 Hour Infection Control and Dental Practice Act Law for DAs
DESCRIPTION:THIS COURSE IS FOR UNREGISTERED DENTAL ASSISTANTS OR NEW RDA APPLICANTS ONLY. IF YOU ARE A LICENSED DENTAL PROFESSIONAL\, PLEASE SIGN UP FOR OUR “LICENSE RENEWAL” COURSE INSTEAD. \nNon-RDA dental assistants are required by the Dental Board of California to take an 8-hour training course in Infection Control and a certified 2-hour Dental Practice Act course. This program satisfies these requirements. This course includes 4 hours of online study that MUST BE COMPLETED BEFORE the 4 hours of in-class study. Check-in begins at 8 am. Boxed lunch included! \nRegistration Options*\nDental Staff/Auxiliary ($395.00)
URL:https://sccds.org/events/8-hour-infection-control-and-dental-practice-act-law-for-das/2026-12-12/
LOCATION:SCCDS Office
CATEGORIES:Upcoming Events
ATTACH;FMTTYPE=image/jpeg:https://sccds.org/wp-content/uploads/2025/09/infection-control.jpg
ORGANIZER;CN="SCCDS":MAILTO:info@sccds.org
END:VEVENT
END:VCALENDAR