BEGIN:VCALENDAR
VERSION:2.0
PRODID:-//Santa Clara County Dental Society - ECPv6.15.20//NONSGML v1.0//EN
CALSCALE:GREGORIAN
METHOD:PUBLISH
X-WR-CALNAME:Santa Clara County Dental Society
X-ORIGINAL-URL:https://sccds.org
X-WR-CALDESC:Events for Santa Clara County Dental Society
REFRESH-INTERVAL;VALUE=DURATION:PT1H
X-Robots-Tag:noindex
X-PUBLISHED-TTL:PT1H
BEGIN:VTIMEZONE
TZID:America/Los_Angeles
BEGIN:DAYLIGHT
TZOFFSETFROM:-0800
TZOFFSETTO:-0700
TZNAME:PDT
DTSTART:20240310T100000
END:DAYLIGHT
BEGIN:STANDARD
TZOFFSETFROM:-0700
TZOFFSETTO:-0800
TZNAME:PST
DTSTART:20241103T090000
END:STANDARD
BEGIN:DAYLIGHT
TZOFFSETFROM:-0800
TZOFFSETTO:-0700
TZNAME:PDT
DTSTART:20250309T100000
END:DAYLIGHT
BEGIN:STANDARD
TZOFFSETFROM:-0700
TZOFFSETTO:-0800
TZNAME:PST
DTSTART:20251102T090000
END:STANDARD
BEGIN:DAYLIGHT
TZOFFSETFROM:-0800
TZOFFSETTO:-0700
TZNAME:PDT
DTSTART:20260308T100000
END:DAYLIGHT
BEGIN:STANDARD
TZOFFSETFROM:-0700
TZOFFSETTO:-0800
TZNAME:PST
DTSTART:20261101T090000
END:STANDARD
END:VTIMEZONE
BEGIN:VEVENT
DTSTART;TZID=America/Los_Angeles:20251016T110000
DTEND;TZID=America/Los_Angeles:20251016T120000
DTSTAMP:20260424T060148
CREATED:20250920T052448Z
LAST-MODIFIED:20250925T000244Z
UID:10000027-1760612400-1760616000@sccds.org
SUMMARY:How to Strategically Annually Plan - 10/16/25
DESCRIPTION:  \n  \nThursday\, October 16\, from 6 – 7 pm\nOnline via Zoom\nFREE for SCCDS Members and Guests \nTake control of your practice’s future with How to Strategically Annual Plan. This webinar provides a focused\, step-by-step guide to building a smarter\, more sustainable year. In this session you’ll learn how to move from reactive to proactive leadership\, connect financial goals with team growth and lifestyle balance\, and design a schedule that works for you. We’ll walk through understanding your true numbers\, setting realistic production targets\, aligning time and capacity with growth plans\, and creating systems for ongoing review. By the end\, you’ll have a practical framework and checklist to set clear goals\, optimize your team’s efficiency\, and start next year with confidence and direction. \nSpeaker Bio:\n \nSandra Fernandez discovered her passion for dentistry in 2013 and continues to hold her RDAEF2 license. Over the years\, she has gained extensive experience across many roles in the dental field\, including working in the HR Grievance Department at Delta Dental of California\, serving as an office manager\, back office manager\, and everything in between. \nHer mission has always been to provide both doctors and their teams with a personalized\, hands-on experience that ensures they feel supported and heard. Sandra’s expertise spans general dentistry\, pediatrics\, orthodontics\, periodontics\, and aesthetic spa practices. She specializes in back office team development and individualized consulting\, taking a holistic approach that not only strengthens team performance but also drives measurable business growth. \nPresented by:
URL:https://sccds.org/events/how-to-strategically-annually-plan-10-16-25/
LOCATION:Online Via Zoom
CATEGORIES:October,Special Events,Upcoming Events
ATTACH;FMTTYPE=image/webp:https://sccds.org/wp-content/uploads/2025/09/1016-how-to-annual-plan-webinar-splash.webp
ORGANIZER;CN="Fernandez Consulting":MAILTO:fbizinnov@gmail.com
END:VEVENT
END:VCALENDAR