BEGIN:VCALENDAR
VERSION:2.0
PRODID:-//Santa Clara County Dental Society - ECPv6.15.20//NONSGML v1.0//EN
CALSCALE:GREGORIAN
METHOD:PUBLISH
X-WR-CALNAME:Santa Clara County Dental Society
X-ORIGINAL-URL:https://sccds.org
X-WR-CALDESC:Events for Santa Clara County Dental Society
REFRESH-INTERVAL;VALUE=DURATION:PT1H
X-Robots-Tag:noindex
X-PUBLISHED-TTL:PT1H
BEGIN:VTIMEZONE
TZID:America/Los_Angeles
BEGIN:DAYLIGHT
TZOFFSETFROM:-0800
TZOFFSETTO:-0700
TZNAME:PDT
DTSTART:20250309T100000
END:DAYLIGHT
BEGIN:STANDARD
TZOFFSETFROM:-0700
TZOFFSETTO:-0800
TZNAME:PST
DTSTART:20251102T090000
END:STANDARD
BEGIN:DAYLIGHT
TZOFFSETFROM:-0800
TZOFFSETTO:-0700
TZNAME:PDT
DTSTART:20260308T100000
END:DAYLIGHT
BEGIN:STANDARD
TZOFFSETFROM:-0700
TZOFFSETTO:-0800
TZNAME:PST
DTSTART:20261101T090000
END:STANDARD
BEGIN:DAYLIGHT
TZOFFSETFROM:-0800
TZOFFSETTO:-0700
TZNAME:PDT
DTSTART:20270314T100000
END:DAYLIGHT
BEGIN:STANDARD
TZOFFSETFROM:-0700
TZOFFSETTO:-0800
TZNAME:PST
DTSTART:20271107T090000
END:STANDARD
END:VTIMEZONE
BEGIN:VEVENT
DTSTART;TZID=America/Los_Angeles:20260503T100000
DTEND;TZID=America/Los_Angeles:20260503T150000
DTSTAMP:20260425T033851
CREATED:20260318T234253Z
LAST-MODIFIED:20260318T234253Z
UID:10000232-1777802400-1777820400@sccds.org
SUMMARY:10 Tips for Perfect Fitting Crowns - 5/3/26
DESCRIPTION:Sunday\, May 3rd \n10:00am – 3:00pm \n3 CE Units \nLunch Included \nFree for SCCDS Members \nThis exclusive event is only available for current SCCDS Members \n1485 Park Ave\, San Jose 95126 \n\n\n\n\n○ Upskill your team with best-in-class preparation and scanning techniques that lead to better-fitting restorations. \n○ Learn to analyze scans before sending your Rx to the lab so you and your assistants can reduce errors\, remakes\, and rescans. \n○ Identify areas of improvement in your lab communication workflow using the latest scanning\, ordering\, and case management technology. \nPresented By: \n \n\n\n 
URL:https://sccds.org/events/10-tips-for-perfect-fitting-crowns-5-3-26/
LOCATION:SCCDS Office
CATEGORIES:3 CE Units (Cat 1),Continuing Education,May,Special Events,Upcoming Events
ATTACH;FMTTYPE=image/png:https://sccds.org/wp-content/uploads/2026/03/Shortcuts-Crown.png
END:VEVENT
BEGIN:VEVENT
DTSTART;TZID=America/Los_Angeles:20260512T180000
DTEND;TZID=America/Los_Angeles:20260512T190000
DTSTAMP:20260425T033851
CREATED:20260318T234800Z
LAST-MODIFIED:20260327T163818Z
UID:10000234-1778608800-1778612400@sccds.org
SUMMARY:When to Go Fee-for-Service — and How to Know If You’re Ready FOR ORTHODONTISTS - 5/12/26
DESCRIPTION:Tuesday\, May 12th \n6:00pm – 7:00pm \nOnline via Zoom \n1 CE Unit \nThis educational webinar explores what fee-for-service really means in today’s orthodontic landscape and how to evaluate whether it aligns with your practice goals. We’ll walk through key indicators\, financial considerations\, and operational impacts to help you determine if\, when\, and how a transition might make sense for your unique practice. \nSpeaker\nMegan Wyrick\nFounder\, The Wyrick Outlook Inc\nMegan is the driving force behind TWO\, an orthodontic coaching company transforming how teams operate. With 15+ years of experience across roles from scheduling and financials to marketing and treatment coordinating\, she knows what makes a practice succeed. As founder\, she brings real world solutions through courses like Confused 2 Confident and Master the Money. \nA sought-after speaker at events like the Ortho2 Users Group Meeting and podcasts including Orthopreneurs\, Megan helps orthodontic teams streamline systems\, boost efficiency\, and gain financial clarity. Outside of work\, she’s a 90’s R&B fan and Apple enthusiast; a leader who turns teams into confident\, empowered pros. \n  \nPresented By:
URL:https://sccds.org/events/when-to-go-fee-for-service-and-how-to-know-if-youre-ready-for-orthodontists-5-12-26/
LOCATION:Online Via Zoom
CATEGORIES:1 CE Unit (Cat 2),May,Special Events,Upcoming Events
ATTACH;FMTTYPE=image/png:https://sccds.org/wp-content/uploads/2026/03/sccds-twoWEBINAR.png
END:VEVENT
BEGIN:VEVENT
DTSTART;TZID=America/Los_Angeles:20260526T180000
DTEND;TZID=America/Los_Angeles:20260526T200000
DTSTAMP:20260425T033851
CREATED:20260422T203831Z
LAST-MODIFIED:20260422T204550Z
UID:10000263-1779818400-1779825600@sccds.org
SUMMARY:The Good Leasing Guidelines & Negotiating Complex Transactions Presented by Acuity - 5/26/26
DESCRIPTION:Tuesday\, May 26th \n6:00pm – 8:00pm \n1485 Park Avenue\, San Jose 95126 \n2 CE Units \nDinner Included \nAll Proceeds Donated to the Global Dental Relief Fund \nSeminar 1: The Good Leasing Guidelines for Dental Offices – How to Save Thousands on your next lease renewal and improve the quality of care for patients. \nDental offices are a costly physical plant. When a dentist builds out their practice\, they usually do not think that their landlord could have the ability to prevent them from selling their practice\, relocate them (at their cost)\, or terminate their lease at their discretion. Dentists are oftentimes faced with other lease related issues that directly affect the quality of care provided for patients and the patients overall experience. These can include not enough patient parking\, limited access for patients with disabilities\, and making sure that your landlord is properly maintaining the space to ensure the patients experience is of the highest quality. In Lewis Gelmon’s seminar\, dentists will learn how the value of their dental office is directly tied to having a good lease. The Good Leasing Guidelines for Dental Offices is a fast paced\, interactive educational seminar which will provide dentists with the right knowledge and tools they need when dealing with their office lease and landlord to gain peace of mind. \nSeminar 2: Negotiating Complex Business Transactions for Dentists \nWhether you are leasing dental office equipment\, thinking of selling your practice to a DSO\, renegotiating your office lease with your landlord\, or trying to negotiate more parking spots for patients; having a good understanding of how to best navigate these transactions successfully and without stress is key. Using case studies from Lewis Gelmon’s thirty plus year career negotiating with some of the world’s toughest landlords\, dentists will learn the fundamentals in negotiating complex business transactions and how to undergo them with ease. \n  \nPresented By: \n \n \n 
URL:https://sccds.org/events/the-good-leasing-guidelines-negotiating-complex-transactions-presented-by-acuity-5-26-26/
LOCATION:SCCDS Office
CATEGORIES:2 CE Units (Cat 2),Continuing Education,May,Special Events,Upcoming Events
ATTACH;FMTTYPE=image/png:https://sccds.org/wp-content/uploads/2026/04/Screenshot-2026-01-22-101521.png
END:VEVENT
BEGIN:VEVENT
DTSTART;TZID=America/Los_Angeles:20260623T180000
DTEND;TZID=America/Los_Angeles:20260623T190000
DTSTAMP:20260425T033851
CREATED:20260422T204404Z
LAST-MODIFIED:20260422T210343Z
UID:10000264-1782237600-1782241200@sccds.org
SUMMARY:Reduce PPO Dependency Presented by Fortune - 6/23/26
DESCRIPTION:Reduce PPO Dependency\nProtect Your Practice Value and Revenue & Diversify Your Practice\nTuesday\, June 23rd \n6:00pm – 7:00pm \nOnline via Zoom \n1 CE Unit \nYou’ve probably wrestled with the question\, “Does accepting insurance help your dental practice?”  There’s no simple answer\, but your choice will have a major impact on your practice for years to come. \nThis event is designed for the dentist who wants to stay massively profitable in the midst of shrinking dental insurance reimbursement. You will learn: \n\nThe formula for strategically dropping PPOs\n6-step system to ensure patient retention\nOrganizing your billing system to increase collections\nKey performance indicators to track a proactive transition\nScripting communication to keep your patient base\nProviding a remarkable patient experience\n\nPresented By:
URL:https://sccds.org/events/reduce-ppo-dependency-presented-by-fortune-6-23-26/
LOCATION:Online Via Zoom
CATEGORIES:1 CE Unit (Cat 2),Continuing Education,June,Online CE Course,Special Events,Upcoming Events
ATTACH;FMTTYPE=image/jpeg:https://sccds.org/wp-content/uploads/2026/04/Mila-Givens.jpg
END:VEVENT
BEGIN:VEVENT
DTSTART;TZID=America/Los_Angeles:20260821T080000
DTEND;TZID=America/Los_Angeles:20260822T173000
DTSTAMP:20260425T033851
CREATED:20260318T234456Z
LAST-MODIFIED:20260413T213744Z
UID:10000233-1787299200-1787419800@sccds.org
SUMMARY:Bay Area Dental Expo 2026
DESCRIPTION:DISCOVER THE FUTURE OF DENTISTRY\nThe Bay Area Dental Expo is a pioneering event focusing on dental innovation and the future of the dental profession. Attendees will connect with colleagues\, learn from more than 15 cutting-edge speakers across two stages\, meet with exhibitors\, and much more. The content is carefully curated to showcase emerging technologies such as digital imagery\, 3D printing\, machine learning\, AI-assisted diagnostics and design\, teledentistry solutions\, and next-generation therapeutics. \n \n  \nRegister Now
URL:https://sccds.org/events/bay-area-dental-expo-2026/
LOCATION:Santa Clara Convention Center\, 5001 Great America Pkwy\, Santa Clara\, CA\, 95054\, United States
CATEGORIES:Continuing Education,Special Events
ATTACH;FMTTYPE=image/png:https://sccds.org/wp-content/uploads/2026/03/2026-Expo-15-Speakers-Sq.png
ORGANIZER;CN="SCCDS":MAILTO:info@sccds.org
END:VEVENT
END:VCALENDAR