BEGIN:VCALENDAR
VERSION:2.0
PRODID:-//Santa Clara County Dental Society - ECPv6.15.20//NONSGML v1.0//EN
CALSCALE:GREGORIAN
METHOD:PUBLISH
X-ORIGINAL-URL:https://sccds.org
X-WR-CALDESC:Events for Santa Clara County Dental Society
REFRESH-INTERVAL;VALUE=DURATION:PT1H
X-Robots-Tag:noindex
X-PUBLISHED-TTL:PT1H
BEGIN:VTIMEZONE
TZID:America/Los_Angeles
BEGIN:DAYLIGHT
TZOFFSETFROM:-0800
TZOFFSETTO:-0700
TZNAME:PDT
DTSTART:20240310T100000
END:DAYLIGHT
BEGIN:STANDARD
TZOFFSETFROM:-0700
TZOFFSETTO:-0800
TZNAME:PST
DTSTART:20241103T090000
END:STANDARD
BEGIN:DAYLIGHT
TZOFFSETFROM:-0800
TZOFFSETTO:-0700
TZNAME:PDT
DTSTART:20250309T100000
END:DAYLIGHT
BEGIN:STANDARD
TZOFFSETFROM:-0700
TZOFFSETTO:-0800
TZNAME:PST
DTSTART:20251102T090000
END:STANDARD
BEGIN:DAYLIGHT
TZOFFSETFROM:-0800
TZOFFSETTO:-0700
TZNAME:PDT
DTSTART:20260308T100000
END:DAYLIGHT
BEGIN:STANDARD
TZOFFSETFROM:-0700
TZOFFSETTO:-0800
TZNAME:PST
DTSTART:20261101T090000
END:STANDARD
END:VTIMEZONE
BEGIN:VEVENT
DTSTART;TZID=America/Los_Angeles:20251105T093000
DTEND;TZID=America/Los_Angeles:20251105T120000
DTSTAMP:20260424T205547
CREATED:20251031T062049Z
LAST-MODIFIED:20251031T062049Z
UID:10000103-1762335000-1762344000@sccds.org
SUMMARY:Arklign Education Center Grand Opening - 11/5/25
DESCRIPTION:November 5\, 2025 from 5:30 pm to 8 pm\n2526 Qume Dr.\, Suite 15\, San Jose\nJoin your SCCDS friends for light bites and great conversation at the Grand Opening of Arklign’s Education Center! Come out and show your support for one of our community’s strongest sponsors and get a sneak peek at their new facility! \nA Special Invitation from Arklign: \nOver the past six months\, we’ve been building our new Dental Education Center in San Jose\, and I’m excited to share that the facility is now complete. Our grand opening and ribbon-cutting ceremony will take place on the evening of Wednesday\, November 5\, featuring live music band\, sushi bar\, and made-to-order tacos. \nWe’d love for you and your clinical team to join us in celebrating this special milestone. The evening will include appearances by several distinguished guests\, including: \n\nDr. Nader Nadershahi\, ADA Senior Vice President of Education/Professional Affairs; Former Dean\, University of the Pacific\nDr. Michael Scherer\, Chief Dental Officer\, Zest Dental Solutions\nDr. Huong Le\, Chief Dental Officer\, Asian Health Services; Former California Board Member\nLeadership from the Santa Clara County and San Mateo County Dental Societies\n\nYour presence would be wonderful as we celebrate this milestone and the beginning of our expanded commitment to education and collaboration in dentistry. \nWe’d be delighted to have you join us.
URL:https://sccds.org/events/arklign-education-center-grand-opening-11-5-25-2/
LOCATION:Arklign Education Center\, 2526 Qume Dr.\, Suite 115\, San Jose\, 95131\, United States
CATEGORIES:November,Special Events,Upcoming Events
END:VEVENT
BEGIN:VEVENT
DTSTART;TZID=America/Los_Angeles:20251109T010000
DTEND;TZID=America/Los_Angeles:20251109T080000
DTSTAMP:20260424T205547
CREATED:20250920T014405Z
LAST-MODIFIED:20250920T014405Z
UID:10000026-1762650000-1762675200@sccds.org
SUMMARY:Dental Prosperity Symposium - 11/9/25
DESCRIPTION:Join us for a full day of financial strategies customized to help you navigate the turbulent economic landscape. \nAgenda: \n9am – Morning Mingle: Continental Breakfast and Networking. Breakfast generously provided by Legally Mine \n \n  \n  \n10am – Safeguarding Wealth: Lawsuit Prevention & Tax Strategies \n11am – The 3 Pillars of Financial Resilience for Dentists \n12pm – What the “One Big Beautiful Bill Act” Means for Your Dental Practice \n1pm – Lunch \n2pm – Planning for Retirement in a time of Tariffs\, Inflation\, Economic & Political Uncertainty \n3pm – Leading Through Change: 3 Powerful Ways to Grow Your Practice in Any Economy
URL:https://sccds.org/events/dental-prosperity-symposium-11-9-25/
LOCATION:SCCDS Office
CATEGORIES:November,Special Events,Upcoming Events
ATTACH;FMTTYPE=image/png:https://sccds.org/wp-content/uploads/2025/09/11-9-25-Prosperity-Symposium.png
ORGANIZER;CN="SCCDS":MAILTO:info@sccds.org
END:VEVENT
BEGIN:VEVENT
DTSTART;TZID=America/Los_Angeles:20251120T100000
DTEND;TZID=America/Los_Angeles:20251120T120000
DTSTAMP:20260424T205547
CREATED:20251017T040110Z
LAST-MODIFIED:20251017T040110Z
UID:10000087-1763632800-1763640000@sccds.org
SUMMARY:How to Strategically Sell to a Partner\, Associate\, or a DSO - 11/20/25
DESCRIPTION:Unlock the art of successful practice transitions with this comprehensive course\, designed to guide you through every stage of the process. From deciding when to retire to understanding the value of your practice and preparing for a seamless transition\, we address common obstacles that sellers face. By breaking down each segment of the transition process\, we provide clarity and equip you with a simplified task list to confidently begin your transition journey. \nDiscover the intricacies of practice valuation to ensure that you maximize the value of your efforts. Identify the ideal buyer for your practice\, whether it’s a partner\, associate\, or Dental Service Organization (DSO). Learn to optimize tax strategies during the sale process\, effectively manage post-sale liabilities\, and enhance your practice’s value pre-sale. Gain invaluable insight into DSOs\, including evaluating their structures and benefits to make informed decisions. \nGain comprehensive understanding and confidence in navigating practice transitions. Assess diverse DSO opportunities\, select the right partner\, and confidently navigate legal pitfalls for a smooth transition. With actionable steps and insights provided throughout the course\, you’ll be well-prepared to embark on your practice transition journey with confidence and clarity. \nCourse Objectives: \nUpon completion of this session\, attendees should be able to: \n\n Determine the value of a practice.\n Evaluate the right kind of buyer.\n Learn how to implement tax-saving strategies.\n Learn the HR pitfalls you need to implement before selling so you don’t get sued into retirement.\n Learn what to include in the most important agreements: Letter of Intent\, Asset Purchase Agreement\, etc.\n Determine how to handle your lease.\n Learn the legal due diligence you need to do before selling.\n Take actionable steps to increase the value of your practice before selling.\n Gain a comprehensive understanding of DSOs\, including their structures\, benefits\, and challenges.\n Evaluate and assess different DSO opportunities\n\nSpeaker Bios:\nAli Oromchian\, JD\, LL.M.\, is a leading legal authority in dental law and the founding attorney of Dental & Medical Counsel\, PC\, with over two decades of experience. His deep connection to dentistry comes from his wife’s nearly two-decade-long career as a pediatric dentist. This personal insight fuels his dedication to empowering dentists to navigate their legal challenges and achieve their practice goals. In doing so\, Ali has helped thousands of doctors open their practices while maintaining legal compliance. Ali is frequently quoted and contributes articles to dental publications\, including the California Dental Association\, Progressive Dentist\, Progressive Orthodontists\, Dentistry Today\, Dentaltown\, and The New Dentist magazines\, further showcasing his commitment to the dental community. \nGavin Shea is a recognized and trusted healthcare industry leader with more than two decades of experience guiding clients through practice transitions\, start-ups and growth. With a specific focus on practice transition financing\, Gavin brings a balanced and unique perspective of the vital stakeholders that contribute to a successful transition. This experience empowers practice owners to navigate their transitions with ease\, confidence\, and foresight\, ensuring they rise above challenges and seize opportunities. Additionally\, as a respected financial partner\, Gavin has been invited to speak at multiple national and regional healthcare conferences and has authored numerous articles focused on guiding practice owners through each stage of their career from New Doctor to a thriving retirement. \nPresented By:
URL:https://sccds.org/events/how-to-strategically-sell-to-a-partner-associate-or-a-dso-11-20-25/
LOCATION:SCCDS Office
CATEGORIES:November,Special Events,Upcoming Events
ATTACH;FMTTYPE=image/png:https://sccds.org/wp-content/uploads/2025/10/DMC-112025-Event-No-Button.png
END:VEVENT
END:VCALENDAR