BEGIN:VCALENDAR
VERSION:2.0
PRODID:-//Santa Clara County Dental Society - ECPv6.15.20//NONSGML v1.0//EN
CALSCALE:GREGORIAN
METHOD:PUBLISH
X-WR-CALNAME:Santa Clara County Dental Society
X-ORIGINAL-URL:https://sccds.org
X-WR-CALDESC:Events for Santa Clara County Dental Society
REFRESH-INTERVAL;VALUE=DURATION:PT1H
X-Robots-Tag:noindex
X-PUBLISHED-TTL:PT1H
BEGIN:VTIMEZONE
TZID:America/Los_Angeles
BEGIN:DAYLIGHT
TZOFFSETFROM:-0800
TZOFFSETTO:-0700
TZNAME:PDT
DTSTART:20250309T100000
END:DAYLIGHT
BEGIN:STANDARD
TZOFFSETFROM:-0700
TZOFFSETTO:-0800
TZNAME:PST
DTSTART:20251102T090000
END:STANDARD
BEGIN:DAYLIGHT
TZOFFSETFROM:-0800
TZOFFSETTO:-0700
TZNAME:PDT
DTSTART:20260308T100000
END:DAYLIGHT
BEGIN:STANDARD
TZOFFSETFROM:-0700
TZOFFSETTO:-0800
TZNAME:PST
DTSTART:20261101T090000
END:STANDARD
BEGIN:DAYLIGHT
TZOFFSETFROM:-0800
TZOFFSETTO:-0700
TZNAME:PDT
DTSTART:20270314T100000
END:DAYLIGHT
BEGIN:STANDARD
TZOFFSETFROM:-0700
TZOFFSETTO:-0800
TZNAME:PST
DTSTART:20271107T090000
END:STANDARD
END:VTIMEZONE
BEGIN:VEVENT
DTSTART;TZID=America/Los_Angeles:20260409T183000
DTEND;TZID=America/Los_Angeles:20260409T203000
DTSTAMP:20260423T111347
CREATED:20251211T204643Z
LAST-MODIFIED:20260108T203117Z
UID:10000131-1775759400-1775766600@sccds.org
SUMMARY:General Membership Meeting: My Digital Journey
DESCRIPTION:Dental technology investments—from intraoral scanners and mills to 3D printers and CBCT—can transform patient care\, team efficiency\, and practice profitability. Yet many practices underutilize these tools\, missing opportunities to streamline workflows\, delegate effectively\, and deliver comprehensive care. This session teaches dental professionals how to maximize their technology ROI by fully leveraging existing tools\, implementing consistent workflows\, and empowering team members to take ownership. Learn practical strategies to expand the use of your devices beyond the basics\, boost patient outcomes\, enhance team morale\, and drive measurable growth for your practice. \nBiography: \nDr. Apekian graduated from University of California\, Davis with a degree in Neurobiology\, Physiology\, and Behavior. She earned her Doctor of Dental Surgery from the University of California\, San Francisco in 2007\, where she graduated top of her class. She is active in the Sacramento District Dental Society\, serving as previous Legislative Committee Chair\, as well as serving on the Continuing Education\, Ethics\, and Leadership Committees. She has also represented Sacramento at the CDA House of Delegates. Dr. Apekian is an active member of the California Dental Association\, American Dental Association\, and UCSF Alumni Association. Dr. Apekian recently accepted the smart integration award honoring female clinicians in the area of digital dentistry. \n 
URL:https://sccds.org/events/general-membership-meeting-3d-printing-and-the-digital-dentist/
LOCATION:Hybrid\, 1485 Park Ave.\, San Jose\, CA\, 95126\, United States
CATEGORIES:2 CE Units (Cat 1),April,Continuing Education,General Membership Meeting,Upcoming Events
ATTACH;FMTTYPE=image/jpeg:https://sccds.org/wp-content/uploads/2025/12/jenny-apekian-2021-e1765486253757.jpg
ORGANIZER;CN="SCCDS":MAILTO:info@sccds.org
END:VEVENT
END:VCALENDAR