BEGIN:VCALENDAR
VERSION:2.0
PRODID:-//Santa Clara County Dental Society - ECPv6.15.20//NONSGML v1.0//EN
CALSCALE:GREGORIAN
METHOD:PUBLISH
X-ORIGINAL-URL:https://sccds.org
X-WR-CALDESC:Events for Santa Clara County Dental Society
REFRESH-INTERVAL;VALUE=DURATION:PT1H
X-Robots-Tag:noindex
X-PUBLISHED-TTL:PT1H
BEGIN:VTIMEZONE
TZID:America/Los_Angeles
BEGIN:DAYLIGHT
TZOFFSETFROM:-0800
TZOFFSETTO:-0700
TZNAME:PDT
DTSTART:20250309T100000
END:DAYLIGHT
BEGIN:STANDARD
TZOFFSETFROM:-0700
TZOFFSETTO:-0800
TZNAME:PST
DTSTART:20251102T090000
END:STANDARD
BEGIN:DAYLIGHT
TZOFFSETFROM:-0800
TZOFFSETTO:-0700
TZNAME:PDT
DTSTART:20260308T100000
END:DAYLIGHT
BEGIN:STANDARD
TZOFFSETFROM:-0700
TZOFFSETTO:-0800
TZNAME:PST
DTSTART:20261101T090000
END:STANDARD
BEGIN:DAYLIGHT
TZOFFSETFROM:-0800
TZOFFSETTO:-0700
TZNAME:PDT
DTSTART:20270314T100000
END:DAYLIGHT
BEGIN:STANDARD
TZOFFSETFROM:-0700
TZOFFSETTO:-0800
TZNAME:PST
DTSTART:20271107T090000
END:STANDARD
END:VTIMEZONE
BEGIN:VEVENT
DTSTART;TZID=America/Los_Angeles:20260212T103000
DTEND;TZID=America/Los_Angeles:20260212T123000
DTSTAMP:20260423T123822
CREATED:20251023T025413Z
LAST-MODIFIED:20260202T234008Z
UID:10000104-1770892200-1770899400@sccds.org
SUMMARY:General Membership Meeting: Early Management Solutions for Challenging Dental Anomalies - Short Root\, Transposition\, and Multiple Missing Teeth
DESCRIPTION:  \n \n  \nThis presentation provides dental professionals with essential knowledge and skills for early identification and effective management of patients presenting with various dental anomalies\, including multiple missing teeth\, transposition\, and short root anomalies. Topics include the epidemiology of these conditions\, precise definitions\, and their classification. The discussion extends to early orthodontic interventions\, strategic space management\, and a comprehensive exploration of a multidisciplinary approach. Treatment plan alternatives are considered\, with insights from both successful and challenging case series outcomes. Emphasis is placed on understanding the complexities of these dental conditions and developing effective treatment strategies that optimize oral health\, function\, and esthetics. \n1. Utilize clinical and radiographic assessments for accurate diagnosis and evaluation of the extent of multiple missing teeth\, transposition\, and short root anomaly. \n2. Understand the importance of early detection and the impact of multiple congenitally missing teeth and short root anomalies on occlusion and facial growth in growing patients. \n3. Develop effective\, multidisciplinary treatment plans aligned with individual patient needs and expectations. \nBiography: \nDr. Heesoo Oh currently holds the position of Professor and Chair of the Department of Orthodontics at the University of the Pacific\, Arthur A. Dugoni School of Dentistry in San Francisco\, CA. She received her DDS\, MS in Pedodontics\, and her PhD from Chonnam National University in Kwangju\, Korea. She later earned her MSD in Orthodontics at the University of the Pacific. Her research focuses primarily on clinical outcome studies that investigate the effects of various therapeutic interventions on the craniofacial region by comparing them to untreated subjects from longitudinal growth studies. She has earned multiple awards and grants from the AAOF\, AAO\, and NIH. \n \n 
URL:https://sccds.org/events/general-membership-meeting-early-management-solutions/
LOCATION:Hybrid\, 1485 Park Ave.\, San Jose\, CA\, 95126\, United States
CATEGORIES:2 CE Units (Cat 1),Continuing Education,February,General Membership Meeting,Upcoming Events
ATTACH;FMTTYPE=image/png:https://sccds.org/wp-content/uploads/2025/10/Heesoo-Oh.png
ORGANIZER;CN="SCCDS":MAILTO:info@sccds.org
END:VEVENT
END:VCALENDAR