BEGIN:VCALENDAR
VERSION:2.0
PRODID:-//Santa Clara County Dental Society - ECPv6.15.20//NONSGML v1.0//EN
CALSCALE:GREGORIAN
METHOD:PUBLISH
X-ORIGINAL-URL:https://sccds.org
X-WR-CALDESC:Events for Santa Clara County Dental Society
REFRESH-INTERVAL;VALUE=DURATION:PT1H
X-Robots-Tag:noindex
X-PUBLISHED-TTL:PT1H
BEGIN:VTIMEZONE
TZID:America/Los_Angeles
BEGIN:DAYLIGHT
TZOFFSETFROM:-0800
TZOFFSETTO:-0700
TZNAME:PDT
DTSTART:20240310T100000
END:DAYLIGHT
BEGIN:STANDARD
TZOFFSETFROM:-0700
TZOFFSETTO:-0800
TZNAME:PST
DTSTART:20241103T090000
END:STANDARD
BEGIN:DAYLIGHT
TZOFFSETFROM:-0800
TZOFFSETTO:-0700
TZNAME:PDT
DTSTART:20250309T100000
END:DAYLIGHT
BEGIN:STANDARD
TZOFFSETFROM:-0700
TZOFFSETTO:-0800
TZNAME:PST
DTSTART:20251102T090000
END:STANDARD
BEGIN:DAYLIGHT
TZOFFSETFROM:-0800
TZOFFSETTO:-0700
TZNAME:PDT
DTSTART:20260308T100000
END:DAYLIGHT
BEGIN:STANDARD
TZOFFSETFROM:-0700
TZOFFSETTO:-0800
TZNAME:PST
DTSTART:20261101T090000
END:STANDARD
END:VTIMEZONE
BEGIN:VEVENT
DTSTART;TZID=America/Los_Angeles:20251030T113000
DTEND;TZID=America/Los_Angeles:20251030T133000
DTSTAMP:20260422T193941
CREATED:20250923T063107Z
LAST-MODIFIED:20250923T063140Z
UID:10000028-1761823800-1761831000@sccds.org
SUMMARY:Optimizing Your Future - 10/30/25
DESCRIPTION:Thursday\, October 30th \n6:30pm – 8:30pm \nIn Person at the SCCDS Office \n1485 Park Avenue\, San Jose \nFREE for SCCDS Members and Guests \nPrivate Equity is expected to invest heavily in the dental industry over the next 10 years\, capturing economies in scale in a fragmented industry\, and securing the financial future of their shareholders. Private Practice owners can leverage the same economies of scale while retaining the financial interests and entrepreneurial autonomy. Where you are in 10 years will depend heavily on the decision you make today! \n– How to Posture Your Practice for an Associate\n– Finding & Retaining Productive Associates\n– How to Maximize Your Earnings as a Seller\n– How to Mitigate Your Risks as a Buyer\n– Merger & Acquisition Due Diligence\n– Buying\, Selling\, and Valuation strategies \nPresented by:
URL:https://sccds.org/events/optimizing-your-future-10-30-25/
LOCATION:SCCDS Office
CATEGORIES:2 CE Units (Cat 2),Continuing Education,October,Special Events,Upcoming Events
ATTACH;FMTTYPE=image/png:https://sccds.org/wp-content/uploads/2025/09/OptimizingYourFuture-Oct302025-SanJoseCA-SocMedSquare.png
END:VEVENT
END:VCALENDAR