BEGIN:VCALENDAR
VERSION:2.0
PRODID:-//Santa Clara County Dental Society - ECPv6.15.20//NONSGML v1.0//EN
CALSCALE:GREGORIAN
METHOD:PUBLISH
X-WR-CALNAME:Santa Clara County Dental Society
X-ORIGINAL-URL:https://sccds.org
X-WR-CALDESC:Events for Santa Clara County Dental Society
REFRESH-INTERVAL;VALUE=DURATION:PT1H
X-Robots-Tag:noindex
X-PUBLISHED-TTL:PT1H
BEGIN:VTIMEZONE
TZID:America/Los_Angeles
BEGIN:DAYLIGHT
TZOFFSETFROM:-0800
TZOFFSETTO:-0700
TZNAME:PDT
DTSTART:20240310T100000
END:DAYLIGHT
BEGIN:STANDARD
TZOFFSETFROM:-0700
TZOFFSETTO:-0800
TZNAME:PST
DTSTART:20241103T090000
END:STANDARD
BEGIN:DAYLIGHT
TZOFFSETFROM:-0800
TZOFFSETTO:-0700
TZNAME:PDT
DTSTART:20250309T100000
END:DAYLIGHT
BEGIN:STANDARD
TZOFFSETFROM:-0700
TZOFFSETTO:-0800
TZNAME:PST
DTSTART:20251102T090000
END:STANDARD
BEGIN:DAYLIGHT
TZOFFSETFROM:-0800
TZOFFSETTO:-0700
TZNAME:PDT
DTSTART:20260308T100000
END:DAYLIGHT
BEGIN:STANDARD
TZOFFSETFROM:-0700
TZOFFSETTO:-0800
TZNAME:PST
DTSTART:20261101T090000
END:STANDARD
END:VTIMEZONE
BEGIN:VEVENT
DTSTART;TZID=America/Los_Angeles:20250923T060000
DTEND;TZID=America/Los_Angeles:20250923T070000
DTSTAMP:20260421T142247
CREATED:20250917T233430Z
LAST-MODIFIED:20250919T054637Z
UID:10000018-1758607200-1758610800@sccds.org
SUMMARY:Dental Pearls Lunch and Learn: Dental Erosion - Etiology\, Diagnosis and Treatment - 9/23/25
DESCRIPTION:Join SCCDS for a series of one-hour lunch and learns that will provide you with some “pearls” of wisdom from different specialists that you can integrate into your practice immediately! \n  \nTHIS COURSE WILL BE HELD ONLINE VIA ZOOM – LINK WILL BE SENT 24 HOURS PRIOR TO EVENT \n1 CE Unit \nRegistration Options*\nCDA Member Dentist (Free!)\nDental Staff/Auxiliary ($20.00)\nNon CDA Member Dentist ($170.00)
URL:https://sccds.org/events/dental-pearls-lunch-and-learn-dental-erosion-etiology-diagnosis-and-treatment-9-23-25/
LOCATION:Online Via Zoom
CATEGORIES:1 CE Unit (Cat 1),Continuing Education,Lunch&Learn,September,Upcoming Events
ORGANIZER;CN="SCCDS":MAILTO:info@sccds.org
END:VEVENT
END:VCALENDAR